BEGIN:VCALENDAR
VERSION:2.0
PRODID:-//Squarespace Inc/Squarespace 6//v6//EN
BEGIN:VEVENT
UID:592631d32e69cf7170215d79@squarespace.com
DTSTAMP:20170629T024840Z
DTSTART:20170712T083000Z
DTEND:20170712T120000Z
SUMMARY:Winter Feast
END:VEVENT
END:VCALENDAR
