BEGIN:VCALENDAR
VERSION:2.0
PRODID:-//Squarespace Inc/Squarespace 6//v6//EN
BEGIN:VEVENT
UID:58741f4dbf629a02f8a546fa@squarespace.com
DTSTAMP:20170227T022539Z
DTSTART:20170325T050000Z
DTEND:20170325T063000Z
SUMMARY:Wines of Wilhelmina's — Riesling
END:VEVENT
END:VCALENDAR
