BEGIN:VCALENDAR
VERSION:2.0
PRODID:-//Squarespace Inc/Squarespace 6//v6//EN
BEGIN:VEVENT
UID:59546baf46c3c4a781c58a5c@squarespace.com
DTSTAMP:20170629T025804Z
DTSTART:20171014T050000Z
DTEND:20171028T050000Z
SUMMARY:'What did you call me?' (Whites)
END:VEVENT
END:VCALENDAR
