BEGIN:VCALENDAR
VERSION:2.0
PRODID:-//Squarespace Inc/Squarespace 6//v6//EN
BEGIN:VEVENT
UID:5a5be71b4192027c06440b34@squarespace.com
DTSTAMP:20180515T124953Z
DTSTART:20180505T060000Z
DTEND:20180519T060000Z
SUMMARY:A VIVID look at Wine
GEO:-33.856914;151.179332
LOCATION:Wilhelminas\, 332 Darling Street\, Balmain\, NSW\, 2041\, Australi
 a
END:VEVENT
END:VCALENDAR
