BEGIN:VCALENDAR
VERSION:2.0
PRODID:-//Squarespace Inc/Squarespace 6//v6//EN
BEGIN:VEVENT
UID:5a5be87aec212d764ff293c6@squarespace.com
DTSTAMP:20180528T235407Z
DTSTART:20180602T060000Z
DTEND:20180630T060000Z
SUMMARY:When Two Become One Wine Tasting
GEO:-33.856914;151.179332
LOCATION:Wilhelminas\, 332 Darling Street\, Balmain\, NSW\, 2041\, Australi
 a
END:VEVENT
END:VCALENDAR
