BEGIN:VCALENDAR
VERSION:2.0
PRODID:-//Squarespace Inc/Squarespace 6//v6//EN
BEGIN:VEVENT
UID:5a5bd8270d9297bb7c8b3f0a@squarespace.com
DTSTAMP:20180203T082505Z
DTSTART:20180203T050000Z
DTEND:20180224T050000Z
SUMMARY:Summer 'Splashers' Wine Tasting
GEO:-33.856914;151.179332
LOCATION:Wilhelminas\, 332 Darling Street\, Balmain\, NSW\, 2041\, Australi
 a
END:VEVENT
END:VCALENDAR
