BEGIN:VCALENDAR
VERSION:2.0
PRODID:-//Squarespace Inc/Squarespace 6//v6//EN
BEGIN:VEVENT
UID:5a5be60a24a694da4aacdb01@squarespace.com
DTSTAMP:20180203T082448Z
DTSTART:20180414T060000Z
DTEND:20180428T060000Z
SUMMARY:Sherry Tasting
GEO:-33.856914;151.179332
LOCATION:Wilhelminas\, 332 Darling Street\, Balmain\, NSW\, 2041\, Australi
 a
END:VEVENT
END:VCALENDAR
