BEGIN:VCALENDAR
VERSION:2.0
PRODID:-//Squarespace Inc/Squarespace 6//v6//EN
BEGIN:VEVENT
UID:599a85debebafb029c89ff59@squarespace.com
DTSTAMP:20170821T070904Z
DTSTART:20170914T093000Z
DTEND:20170914T113000Z
SUMMARY:Whisky & Chocolate
END:VEVENT
END:VCALENDAR
