BEGIN:VCALENDAR
VERSION:2.0
PRODID:-//Squarespace Inc/Squarespace 6//v6//EN
BEGIN:VEVENT
UID:594216199de4bb914a474058@squarespace.com
DTSTAMP:20170626T011249Z
DTSTART:20170701T060000Z
DTEND:20170715T060000Z
SUMMARY:Shiraz Wine Tasting
END:VEVENT
END:VCALENDAR
