BEGIN:VCALENDAR
VERSION:2.0
PRODID:-//Squarespace Inc/Squarespace 6//v6//EN
BEGIN:VEVENT
UID:585b16b620099ec5194fc04c@squarespace.com
DTSTAMP:20170106T030136Z
DTSTART:20161231T060000Z
DTEND:20161231T125000Z
SUMMARY:New Years Eve
END:VEVENT
END:VCALENDAR
