BEGIN:VCALENDAR
VERSION:2.0
PRODID:-//Squarespace Inc/Squarespace 6//v6//EN
BEGIN:VEVENT
UID:5dcf5df679eb68338eab3248@squarespace.com
DTSTAMP:20191116T022929Z
DTSTART:20191130T030000Z
DTEND:20191130T050000Z
SUMMARY:Kiss the Dirt Wine Tasting
GEO:-33.856888;151.17933
LOCATION:Wilhelminas\, Shops 3-4\, 332 Darling Street\, Balmain NSW 2041\, 
 Australia
END:VEVENT
END:VCALENDAR
