BEGIN:VCALENDAR
VERSION:2.0
PRODID:-//Squarespace Inc/Squarespace 6//v6//EN
BEGIN:VEVENT
UID:594218d1b8a79b530426c63a@squarespace.com
DTSTAMP:20170803T040532Z
DTSTART:20170812T060000Z
DTEND:20170826T060000Z
SUMMARY:Cabernets Wine Tasting
END:VEVENT
END:VCALENDAR
