BEGIN:VCALENDAR
VERSION:2.0
PRODID:-//Squarespace Inc/Squarespace 6//v6//EN
BEGIN:VEVENT
UID:5cff627d6cd35200015d70c4@squarespace.com
DTSTAMP:20190611T082554Z
DTSTART:20190713T040000Z
DTEND:20190713T060000Z
SUMMARY:Oyster and Wine Masterclass
END:VEVENT
END:VCALENDAR
