BEGIN:VCALENDAR
VERSION:2.0
PRODID:-//Squarespace Inc/Squarespace 6//v6//EN
BEGIN:VEVENT
UID:5c8386158165f5cb5fa9508b@squarespace.com
DTSTAMP:20190310T045453Z
DTSTART:20190403T073000Z
DTEND:20190403T093000Z
SUMMARY:WINE TASTING PRESENTED EXCLUSIVELY BY A MASTER OF WINE
END:VEVENT
END:VCALENDAR
