BEGIN:VCALENDAR
VERSION:2.0
PRODID:-//Squarespace Inc/Squarespace 6//v6//EN
BEGIN:VEVENT
UID:5c6517d0ee6eb0325619fb09@squarespace.com
DTSTAMP:20190216T054730Z
DTSTART:20190302T030000Z
DTEND:20190302T050000Z
SUMMARY:Tenuta Ulisse Wine Tasting
END:VEVENT
END:VCALENDAR
