BEGIN:VCALENDAR
VERSION:2.0
PRODID:-//Squarespace Inc/Squarespace 6//v6//EN
BEGIN:VEVENT
UID:5d9481e324b93d3a959ed5c9@squarespace.com
DTSTAMP:20191002T110157Z
DTSTART:20191012T030000Z
DTEND:20191012T050000Z
SUMMARY:Brookies Gin Tasting 
END:VEVENT
END:VCALENDAR
