BEGIN:VCALENDAR
VERSION:2.0
PRODID:-//Squarespace Inc/Squarespace 6//v6//EN
BEGIN:VEVENT
UID:587424b0b8a79bc9a78da53f@squarespace.com
DTSTAMP:20170525T013848Z
DTSTART:20170527T060000Z
DTEND:20170527T073000Z
SUMMARY:Pinot Noir Wine Tasting
END:VEVENT
END:VCALENDAR
