BEGIN:VCALENDAR
VERSION:2.0
PRODID:-//Squarespace Inc/Squarespace 6//v6//EN
BEGIN:VEVENT
UID:58742a6a9de4bb0b7ed0de4b@squarespace.com
DTSTAMP:20170525T013920Z
DTSTART:20170624T060000Z
DTEND:20170624T073000Z
SUMMARY:Grenache & friends Wine Tasting
END:VEVENT
END:VCALENDAR
