BEGIN:VCALENDAR
VERSION:2.0
PRODID:-//Squarespace Inc/Squarespace 6//v6//EN
BEGIN:VEVENT
UID:59546863e3df28275b0acafe@squarespace.com
DTSTAMP:20170629T025252Z
DTSTART:20170909T060000Z
DTEND:20170923T060000Z
SUMMARY:'What did you call me?' (Reds)
END:VEVENT
END:VCALENDAR
