BEGIN:VCALENDAR
VERSION:2.0
PRODID:-//Squarespace Inc/Squarespace 6//v6//EN
BEGIN:VEVENT
UID:5a5bd9e2652dea17cc2ce696@squarespace.com
DTSTAMP:20180203T082457Z
DTSTART:20180310T050000Z
DTEND:20180324T050000Z
SUMMARY:Show Us Your ABS! Wine Tasting
GEO:-33.856914;151.179332
LOCATION:Wilhelminas\, 332 Darling Street\, Balmain\, NSW\, 2041\, Australi
 a
END:VEVENT
END:VCALENDAR
