BEGIN:VCALENDAR
VERSION:2.0
PRODID:-//Squarespace Inc/Squarespace 6//v6//EN
BEGIN:VEVENT
UID:586f183217bffca5004ee3ab@squarespace.com
DTSTAMP:20170312T122440Z
DTSTART:20170405T083000Z
DTEND:20170405T123000Z
SUMMARY:Autumn Feast
END:VEVENT
END:VCALENDAR
