BEGIN:VCALENDAR
VERSION:2.0
PRODID:-//Squarespace Inc/Squarespace 6//v6//EN
BEGIN:VEVENT
UID:587421d4e58c62badec1fd48@squarespace.com
DTSTAMP:20170227T022554Z
DTSTART:20170429T060000Z
DTEND:20170429T073000Z
SUMMARY:Wines of Wilhelmina's — Pinot Gris & Grigio
END:VEVENT
END:VCALENDAR
