BEGIN:VCALENDAR
VERSION:2.0
PRODID:-//Squarespace Inc/Squarespace 6//v6//EN
BEGIN:VEVENT
UID:58741b9ce4fcb53e0752e8d3@squarespace.com
DTSTAMP:20170227T022629Z
DTSTART:20170225T050000Z
DTEND:20170225T063000Z
SUMMARY:Wines of Wilhelmina's — Sparkling Wine
END:VEVENT
END:VCALENDAR
